BEGIN:VCALENDAR
VERSION:2.0
PRODID:-//Eventin//Event Calendar//EN
CALSCALE:GREGORIAN
METHOD:PUBLISH
BEGIN:VEVENT
UID:0079ff6ae644bbf1e14695bc80d0be0a@sintergia-cisc.org
SUMMARY:EMEC 2026
DESCRIPTION:[emec26_info_rows] [emec_logo][carrete_emec26][incluye_entrada2
 6][no_hay_cuchara_slider26][programa26][legado_grinberg][faq_emec26]\n ¡L
 os tickets vuelan! Asegura tu lugar en la historia de este tejido de la con
 sciencia.
LOCATION:Av. Juarez 76-Local-B23\, Planta Baja\, Colonia Centro\, Centro\, 
 Cuauhtémoc\, 06010 Ciudad de México\, CDMX
DTSTAMP:20260425T150814Z
DTSTART:20260808T150000Z
DTEND:20260809T010000Z
END:VEVENT
END:VCALENDAR
